BEGIN:VCALENDAR
VERSION:2.0
PRODID:EVENTFROG//EVENT//ICAL
BEGIN:VEVENT
UID:20260422T154148Z-7447330117670456441@eventfrog.at
DTSTAMP:20260422T154148Z
DTSTART:20260507T160000Z
DTEND:20260510T160000Z
SUMMARY:Kunstausstellung "Nah und Fern"
DESCRIPTION:Susanne Jäggi und Lisa Schneider präsentieren  moderne und klassische Landschaftsbilder und heutige Alltagsszenen im Stil der Tafelmalerei des 15. Jh. .\n\nhttps://eventfrog.at/de/p/kunst-ausstellungen/ausstellung/kunstausstellung-nah-und-fern-7447330117670456441.html
LOCATION:Altstadthalle
GEO:47.165807;8.514281
URL:https://eventfrog.at/de/p/kunst-ausstellungen/ausstellung/kunstausstellung-nah-und-fern-7447330117670456441.html
END:VEVENT
END:VCALENDAR