BEGIN:VCALENDAR
VERSION:2.0
PRODID:EVENTFROG//EVENT//ICAL
BEGIN:VEVENT
UID:20260422T111308Z-7447278192782490149@eventfrog.at
DTSTAMP:20260422T111308Z
DTSTART:20260522T170000Z
SUMMARY:"Wege durch finstere Zeiten" - Fokus Afghanistan
DESCRIPTION:Sabera Aitabar, Azima Basharmal, Najibah Zartosht lesen Texte zur Flucht aus der Anthologie «Wege durch finstere Zeiten».\n\nhttps://eventfrog.at/de/p/theater-buehne/lesung/wege-durch-finstere-zeiten-fokus-afghanistan-7447278192782490149.html
LOCATION:Atelier- und Kulturhaus Gewürzmühle
GEO:47.181129;8.502345
URL:https://eventfrog.at/de/p/theater-buehne/lesung/wege-durch-finstere-zeiten-fokus-afghanistan-7447278192782490149.html
END:VEVENT
END:VCALENDAR