BEGIN:VCALENDAR
VERSION:2.0
PRODID:EVENTFROG//EVENT//ICAL
BEGIN:VEVENT
UID:20260423T081208Z-7445656471050696978@eventfrog.at
DTSTAMP:20260423T081208Z
DTSTART:20261025T160000Z
DTEND:20261025T180000Z
SUMMARY:Würth Philharmoniker - Hautnah! Vol. 4
DESCRIPTION:DAS BESONDERE KONZERTERLEBNIS Nach den Erfolgen der ersten drei Ausgaben kehrt das besondere Konzertformat zurück: Hautnah! Vol. 4 knüpft an jene...\n\nhttps://eventfrog.at/de/p/klassik-opern/klassik/wuerth-philharmoniker-hautnah-vol-4-7445656471050696978.html
LOCATION:Forum Würth Rorschach
GEO:47.478437;9.506574
URL:https://eventfrog.at/de/p/klassik-opern/klassik/wuerth-philharmoniker-hautnah-vol-4-7445656471050696978.html
END:VEVENT
END:VCALENDAR