BEGIN:VCALENDAR
VERSION:2.0
PRODID:EVENTFROG//EVENT//ICAL
BEGIN:VEVENT
UID:20260422T013159Z-7445475835769830865@eventfrog.at
DTSTAMP:20260422T013159Z
DTSTART:20260506T153000Z
DTEND:20260506T190000Z
SUMMARY:Table Magique!
DESCRIPTION:Der Stammtisch im Hallers in Bern. \nLerne spannende Menschen kennen und führe Gespräche, die inspirieren. \nWeil wir gerne Menschen verbinden. \n\nhttps://eventfrog.at/de/p/diverses/table-magique-7445475835769830865.html
LOCATION:Hallers Brasserie
GEO:46.953739;7.436616
URL:https://eventfrog.at/de/p/diverses/table-magique-7445475835769830865.html
END:VEVENT
END:VCALENDAR