BEGIN:VCALENDAR
VERSION:2.0
PRODID:EVENTFROG//EVENT//ICAL
BEGIN:VEVENT
UID:20260422T022814Z-7445469441083585132@eventfrog.at
DTSTAMP:20260422T022814Z
DTSTART:20260620T180000Z
DTEND:20260620T210000Z
SUMMARY:DISCO TIMES
DESCRIPTION:Die Westside Singers begeistern mit einer energiegeladenen Chor-Disco-Show und Live-Band voller Hits der 70er und 80er.\n\nhttps://eventfrog.at/de/p/musicals-shows/show/disco-times-7445469441083585132.html
LOCATION:Eventlokal Sternensaal Bern-Bümpliz
GEO:46.941009;7.390760
URL:https://eventfrog.at/de/p/musicals-shows/show/disco-times-7445469441083585132.html
END:VEVENT
END:VCALENDAR