BEGIN:VCALENDAR
VERSION:2.0
PRODID:EVENTFROG//EVENT//ICAL
BEGIN:VEVENT
UID:20260422T113300Z-7445455650702769410@eventfrog.at
DTSTAMP:20260422T113300Z
DTSTART:20260917T163000Z
SUMMARY:Sing+ Kraft der Herzensklänge
DESCRIPTION:Gesang und Text zum Feierabend\n\nhttps://eventfrog.at/de/p/diverses/sing-kraft-der-herzensklaenge-7445455650702769410.html
LOCATION:Katholische Kirche St. Oswald
GEO:47.165556;8.516187
URL:https://eventfrog.at/de/p/diverses/sing-kraft-der-herzensklaenge-7445455650702769410.html
END:VEVENT
END:VCALENDAR