BEGIN:VCALENDAR
VERSION:2.0
PRODID:EVENTFROG//EVENT//ICAL
BEGIN:VEVENT
UID:20260422T113305Z-7445455580041326914@eventfrog.at
DTSTAMP:20260422T113305Z
DTSTART:20260521T163000Z
SUMMARY:Sing+ Kraft der Herzensklänge
DESCRIPTION:Gesang und Text zum Feierabend\n\nhttps://eventfrog.at/de/p/diverses/sing-kraft-der-herzensklaenge-7445455580041326914.html
LOCATION:Katholische Kirche St. Oswald
GEO:47.165556;8.516187
URL:https://eventfrog.at/de/p/diverses/sing-kraft-der-herzensklaenge-7445455580041326914.html
END:VEVENT
END:VCALENDAR