BEGIN:VCALENDAR
VERSION:2.0
PRODID:EVENTFROG//EVENT//ICAL
BEGIN:VEVENT
UID:20260422T112553Z-7445404513404483060@eventfrog.at
DTSTAMP:20260422T112553Z
DTSTART:20260618T150000Z
DTEND:20260618T170000Z
SUMMARY:2. Zuger Inklusive Landsgemeinde
DESCRIPTION:Am 18. Juni 2026 diskutieren Menschen mit Behinderungen und Mitglieder des Zuger Kantonsrats zum Thema Arbeit und Inklusion. \n\nhttps://eventfrog.at/de/p/politik-gemeinde/politik/2-zuger-inklusive-landsgemeinde-7445404513404483060.html
LOCATION:Kantonsratssaal Zug
GEO:47.167865;8.514778
URL:https://eventfrog.at/de/p/politik-gemeinde/politik/2-zuger-inklusive-landsgemeinde-7445404513404483060.html
END:VEVENT
END:VCALENDAR