BEGIN:VCALENDAR
VERSION:2.0
PRODID:EVENTFROG//EVENT//ICAL
BEGIN:VEVENT
UID:20260422T013152Z-7445389784707498592@eventfrog.at
DTSTAMP:20260422T013152Z
DTSTART:20260522T183000Z
SUMMARY:Spezialveranstaltung mit drei Kurzfilmen
DESCRIPTION:Drei Kurzfilme zeigen Gemeinschaft im Wandel; im Anschluss findet eine Diskussion mit den Regisseuren statt.\n\nhttps://eventfrog.at/de/p/diverses/spezialveranstaltung-mit-drei-kurzfilmen-7445389784707498592.html
LOCATION:Cinématte
GEO:46.946528;7.456345
URL:https://eventfrog.at/de/p/diverses/spezialveranstaltung-mit-drei-kurzfilmen-7445389784707498592.html
END:VEVENT
END:VCALENDAR