BEGIN:VCALENDAR
VERSION:2.0
PRODID:EVENTFROG//EVENT//ICAL
BEGIN:VEVENT
UID:20260422T055816Z-7445229340730603254@eventfrog.at
DTSTAMP:20260422T055816Z
DTSTART:20260422T120000Z
DTEND:20260422T150000Z
SUMMARY:Kreativnachmittag Insektentränke bauen
DESCRIPTION:Kreativnachmittag Insektentränke bauen\n\nhttps://eventfrog.at/de/p/wissenschaft-und-technik/kreativnachmittag-insektentraenke-bauen-7445229340730603254.html
LOCATION:Schulmuseum Thurgau
GEO:47.544366;9.273775
URL:https://eventfrog.at/de/p/wissenschaft-und-technik/kreativnachmittag-insektentraenke-bauen-7445229340730603254.html
END:VEVENT
END:VCALENDAR