BEGIN:VCALENDAR
VERSION:2.0
PRODID:EVENTFROG//EVENT//ICAL
BEGIN:VEVENT
UID:20260422T112632Z-7445198175843914682@eventfrog.at
DTSTAMP:20260422T112632Z
DTSTART:20260510T093000Z
DTEND:20260510T103000Z
SUMMARY:Das Tanzfest Zug 2025 «DanceAbility» inklusive Workshop
DESCRIPTION:DanceAbility ist eine inklusive Tanzmethode, die alle Menschen willkommen heißt – mit und ohne Behinderung, mit viel oder wenig Tanzerfahrung.\n\nhttps://eventfrog.at/de/p/kurse-seminare/musik-tanz/das-tanzfest-zug-2025-danceability-inklusive-workshop-7445198175843914682.html
LOCATION:Musikschule Zug
GEO:47.171893;8.513136
URL:https://eventfrog.at/de/p/kurse-seminare/musik-tanz/das-tanzfest-zug-2025-danceability-inklusive-workshop-7445198175843914682.html
END:VEVENT
END:VCALENDAR