BEGIN:VCALENDAR
VERSION:2.0
PRODID:EVENTFROG//EVENT//ICAL
BEGIN:VEVENT
UID:20260422T111140Z-7445189252894197737@eventfrog.at
DTSTAMP:20260422T111140Z
DTSTART:20260509T170000Z
DTEND:20260509T190000Z
SUMMARY:Das Tanzfest Zug 2026 «Im Flow» Dreiteiliger Abend
DESCRIPTION:Im Flow: vom Apéritif dansant über den Film TanZug bis zum Local Choreo-Lab. Drei Formate, ein Abend zwischen Impuls, Bild und gemeinsamer Kreation.\n\nhttps://eventfrog.at/de/p/theater-buehne/tanz/das-tanzfest-zug-2026-im-flow-dreiteiliger-abend-7445189252894197737.html
LOCATION:Theater Casino Zug
GEO:47.164359;8.513848
URL:https://eventfrog.at/de/p/theater-buehne/tanz/das-tanzfest-zug-2026-im-flow-dreiteiliger-abend-7445189252894197737.html
END:VEVENT
END:VCALENDAR