BEGIN:VCALENDAR
VERSION:2.0
PRODID:EVENTFROG//EVENT//ICAL
BEGIN:VEVENT
UID:20260422T022812Z-7445131901528996377@eventfrog.at
DTSTAMP:20260422T022812Z
DTSTART:20261203T110000Z
DTEND:20261203T130000Z
SUMMARY:Fondue im Park 2026
DESCRIPTION:Fondue im Piazza im Park: Tische für 2-60 Personen, drei Zeitfenster, Fondue normal oder mit Champagner, Getränke extra.\n\nhttps://eventfrog.at/de/p/essen-trinken/fondue-im-park-2026-7445131901528996377.html
LOCATION:Piazza im Park
GEO:46.946423;7.438194
URL:https://eventfrog.at/de/p/essen-trinken/fondue-im-park-2026-7445131901528996377.html
END:VEVENT
END:VCALENDAR