BEGIN:VCALENDAR
VERSION:2.0
PRODID:EVENTFROG//EVENT//ICAL
BEGIN:VEVENT
UID:20260422T111823Z-7445124937180784430@eventfrog.at
DTSTAMP:20260422T111823Z
DTSTART:20260422T080000Z
DTEND:20260422T140000Z
SUMMARY:Abenteuer Vier Elemente!
DESCRIPTION:Kinder ab Kindergarten spielen unter kundiger Leitung auf dem Siehbach Spielplatz\n\nhttps://eventfrog.at/de/p/kinderveranstaltungen/ferienprogramm/abenteuer-vier-elemente-7445124937180784430.html
LOCATION:Spielplatz Siehbach
GEO:47.172183;8.507546
URL:https://eventfrog.at/de/p/kinderveranstaltungen/ferienprogramm/abenteuer-vier-elemente-7445124937180784430.html
END:VEVENT
END:VCALENDAR