BEGIN:VCALENDAR
VERSION:2.0
PRODID:EVENTFROG//EVENT//ICAL
BEGIN:VEVENT
UID:20260422T014437Z-7445100838882665009@eventfrog.at
DTSTAMP:20260422T014437Z
DTSTART:20270115T200000Z
DTEND:20270115T225500Z
SUMMARY:Quatre in Toulouse
DESCRIPTION:Alle Jahre wieder eröffnet die bekannte Berner Band ihre Konzertsaison bei uns in der Mahogany Hall.  Wenn die Ska-Urgesteine die Bühne betreten, bleibt kein Bein ruhig und kein Gesicht ernst. Die ene\n\nhttps://eventfrog.at/de/p/konzerte/reggae-ska/quatre-in-toulouse-7445100838882665009.html
LOCATION:Mahogany Hall Bern
GEO:46.948921;7.459310
URL:https://eventfrog.at/de/p/konzerte/reggae-ska/quatre-in-toulouse-7445100838882665009.html
END:VEVENT
END:VCALENDAR