BEGIN:VCALENDAR
VERSION:2.0
PRODID:EVENTFROG//EVENT//ICAL
BEGIN:VEVENT
UID:20260422T014007Z-7445098563019757895@eventfrog.at
DTSTAMP:20260422T014007Z
DTSTART:20270220T200000Z
DTEND:20270220T225500Z
SUMMARY:Sonorous Dynamo / Pesticide
DESCRIPTION:Sonorous Dynamo und Pesticide - ein Rock/Metal/Progmetal Abend vom Feinsten in der legendären Mahogany Hall Bern.\n\nhttps://eventfrog.at/de/p/konzerte/hard-rock-heavy-metal/sonorous-dynamo-pesticide-7445098563019757895.html
LOCATION:Mahogany Hall Bern
GEO:46.948921;7.459310
URL:https://eventfrog.at/de/p/konzerte/hard-rock-heavy-metal/sonorous-dynamo-pesticide-7445098563019757895.html
END:VEVENT
END:VCALENDAR