BEGIN:VCALENDAR
VERSION:2.0
PRODID:EVENTFROG//EVENT//ICAL
BEGIN:VEVENT
UID:20260422T130820Z-7445098041990760078@eventfrog.at
DTSTAMP:20260422T130820Z
DTSTART:20261024T120000Z
DTEND:20261024T133000Z
SUMMARY:Trinkwasserversorgung Zug
DESCRIPTION:Auf einer Führung im Lorzentobel Zug besichtigen Sie eine Brunnenstube und ein Reservoir und erfahren viel Spannendes über Trinkwasser.\n\nhttps://eventfrog.at/de/p/fuehrungen-vortraege/fuehrung/trinkwasserversorgung-zug-7445098041990760078.html
LOCATION:Reservoir Lorzentobel
GEO:47.179540;8.552902
URL:https://eventfrog.at/de/p/fuehrungen-vortraege/fuehrung/trinkwasserversorgung-zug-7445098041990760078.html
END:VEVENT
END:VCALENDAR