BEGIN:VCALENDAR
VERSION:2.0
PRODID:EVENTFROG//EVENT//ICAL
BEGIN:VEVENT
UID:20260422T113302Z-7445043905429537350@eventfrog.at
DTSTAMP:20260422T113302Z
DTSTART:20260718T100000Z
DTEND:20260718T180000Z
SUMMARY:Public Brewday
DESCRIPTION:Live-Brauen im Langhuus Cham – mit 4 frisch gezapften Bieren und guter Stimmung.\nBeer Pass: 30.– für Becher & Bier à discrétion.\nKleine kostenlose Degu.\n\nhttps://eventfrog.at/de/p/essen-trinken/public-brewday-7445043905429537350.html
LOCATION:Langhuus Kulturfabrik Cham
GEO:47.185132;8.459231
URL:https://eventfrog.at/de/p/essen-trinken/public-brewday-7445043905429537350.html
END:VEVENT
END:VCALENDAR