BEGIN:VCALENDAR
VERSION:2.0
PRODID:EVENTFROG//EVENT//ICAL
BEGIN:VEVENT
UID:20260422T113301Z-7445002769751095679@eventfrog.at
DTSTAMP:20260422T113301Z
DTSTART:20260502T110000Z
DTEND:20260502T160000Z
SUMMARY:Tag der Homöopathie 2026 – Kinder in allen Lebensphasen
DESCRIPTION:Tag der Homöopathie 2026: Kinder ganzheitlich begleiten – vom Baby bis zur Pubertät. 2. Mai, 13–18 Uhr, SHI Zug. Vorträge, Infostände & Austausch. Eintritt frei, mit Anmeldung\n\nhttps://eventfrog.at/de/p/diverses/tag-der-homoeopathie-2026-kinder-in-allen-lebensphasen-7445002769751095679.html
LOCATION:Steinhauserstrasse 51
GEO:47.185764;8.493632
URL:https://eventfrog.at/de/p/diverses/tag-der-homoeopathie-2026-kinder-in-allen-lebensphasen-7445002769751095679.html
END:VEVENT
END:VCALENDAR