BEGIN:VCALENDAR
VERSION:2.0
PRODID:EVENTFROG//EVENT//ICAL
BEGIN:VEVENT
UID:20260422T033949Z-7444823821046009726@eventfrog.at
DTSTAMP:20260422T033949Z
DTSTART:20260423T044000Z
SUMMARY:Pro Senectute Wanderung
DESCRIPTION:Pro Senectute Langwanderung. Startkaffee in Schaffhausen. Busfahrt nach Bargen, Rundwanderung zum Grenzstein Nr. 593, Mittagsrast aus dem Rucksack, Rückkehr mit Bahn via Zürich HB nach Aarau.\n\nhttps://eventfrog.at/de/p/freizeit-ausfluege/wanderung/pro-senectute-wanderung-7444823821046009726.html
LOCATION:Bahnhof Aarau Gleis 3
GEO:47.390434;8.045701
URL:https://eventfrog.at/de/p/freizeit-ausfluege/wanderung/pro-senectute-wanderung-7444823821046009726.html
END:VEVENT
END:VCALENDAR