BEGIN:VCALENDAR
VERSION:2.0
PRODID:EVENTFROG//EVENT//ICAL
BEGIN:VEVENT
UID:20260422T154150Z-7444820232873479149@eventfrog.at
DTSTAMP:20260422T154150Z
DTSTART:20260619T173000Z
DTEND:20260619T200000Z
SUMMARY:Konzert im Graben: Frethike
DESCRIPTION:Frethike kreieren ihren Blues im Studio. Aus einem Riff, einer Melodie, aus Texten oder Akkorden entwickeln sie ihre Songs über Persönliches, Drängendes und Klischeehaftes. \n\nhttps://eventfrog.at/de/p/konzerte/jazz-blues/konzert-im-graben-frethike-7444820232873479149.html
LOCATION:Oberer Graben/Café Grogg
GEO:47.349720;7.902811
URL:https://eventfrog.at/de/p/konzerte/jazz-blues/konzert-im-graben-frethike-7444820232873479149.html
END:VEVENT
END:VCALENDAR