BEGIN:VCALENDAR
VERSION:2.0
PRODID:EVENTFROG//EVENT//ICAL
BEGIN:VEVENT
UID:20260422T013225Z-7444748527056462876@eventfrog.at
DTSTAMP:20260422T013225Z
DTSTART:20260508T180000Z
DTEND:20260508T210000Z
SUMMARY:MILYA Trio
DESCRIPTION:Das Trio MILYA spielt jazzige Songs mit neoklassischen Elementen und erzählt von Lebenssinn und faszinierenden Menschen.\n\nhttps://eventfrog.at/de/p/konzerte/jazz-blues/milya-trio-7444748527056462876.html
LOCATION:Villa Stucki
GEO:46.939319;7.432824
URL:https://eventfrog.at/de/p/konzerte/jazz-blues/milya-trio-7444748527056462876.html
END:VEVENT
END:VCALENDAR