BEGIN:VCALENDAR
VERSION:2.0
PRODID:EVENTFROG//EVENT//ICAL
BEGIN:VEVENT
UID:20260422T113303Z-7444719788004230865@eventfrog.at
DTSTAMP:20260422T113303Z
DTSTART:20260530T090000Z
DTEND:20260530T130000Z
SUMMARY:NATURENA: Familienplausch mit Herz
DESCRIPTION:Am 30. Mai bietet der Volg Erlebnishof in Baar ein Familienfest mit Ponyreiten, Konzerten und Farmsafari zugunsten Stiftung Theodora.\n\nhttps://eventfrog.at/de/p/freizeit-ausfluege/sonstige-veranstaltungen/naturena-familienplausch-mit-herz-7444719788004230865.html
LOCATION:Volg Erlebnishof Zugerland
GEO:47.207505;8.538940
URL:https://eventfrog.at/de/p/freizeit-ausfluege/sonstige-veranstaltungen/naturena-familienplausch-mit-herz-7444719788004230865.html
END:VEVENT
END:VCALENDAR