BEGIN:VCALENDAR
VERSION:2.0
PRODID:EVENTFROG//EVENT//ICAL
BEGIN:VEVENT
UID:20260423T143706Z-7444718016275727748@eventfrog.at
DTSTAMP:20260423T143706Z
DTSTART:20260918T183000Z
DTEND:20260918T203000Z
SUMMARY:STOP STOP (UK) - Rock n Roll Party im Holästei Glarus
DESCRIPTION:Rock n Roll Party in der Kulti Wetzikon\n\nhttps://eventfrog.at/de/p/konzerte/pop-rock/stop-stop-uk-rock-n-roll-party-im-holaestei-glarus-7444718016275727748.html
LOCATION:Kulturzentrum Holästei
GEO:47.029800;8.958980
URL:https://eventfrog.at/de/p/konzerte/pop-rock/stop-stop-uk-rock-n-roll-party-im-holaestei-glarus-7444718016275727748.html
END:VEVENT
END:VCALENDAR