BEGIN:VCALENDAR
VERSION:2.0
PRODID:EVENTFROG//EVENT//ICAL
BEGIN:VEVENT
UID:20260422T013157Z-7444716023859645540@eventfrog.at
DTSTAMP:20260422T013157Z
DTSTART:20260628T120000Z
DTEND:20260628T140000Z
SUMMARY:22 Dance Studio  - "8 Years Anniversary Show"
DESCRIPTION:Schülervorstellung des 22 Dance Studio's \n" 8 YEARS ANNIVERSARY"\n\nhttps://eventfrog.at/de/p/musicals-shows/tanzshow/22-dance-studio-8-years-anniversary-show-7444716023859645540.html
LOCATION:Theater National Bern
GEO:46.946098;7.436980
URL:https://eventfrog.at/de/p/musicals-shows/tanzshow/22-dance-studio-8-years-anniversary-show-7444716023859645540.html
END:VEVENT
END:VCALENDAR