BEGIN:VCALENDAR
VERSION:2.0
PRODID:EVENTFROG//EVENT//ICAL
BEGIN:VEVENT
UID:20260422T013220Z-7444715393430607383@eventfrog.at
DTSTAMP:20260422T013220Z
DTSTART:20260515T200000Z
SUMMARY:WHAT A YEAR! 2008 Only w/ Mestrø & Sir Super Smart
DESCRIPTION:Eine monatliche Partyreihe mit DJs, die 2000er spielen. An diesem Abend: 2008\n\nhttps://eventfrog.at/de/p/partys/00-s/what-a-year-2008-only-w-mestroe-sir-super-smart-7444715393430607383.html
LOCATION:Turnhalle PROGR Bern
GEO:46.950336;7.442980
URL:https://eventfrog.at/de/p/partys/00-s/what-a-year-2008-only-w-mestroe-sir-super-smart-7444715393430607383.html
END:VEVENT
END:VCALENDAR