BEGIN:VCALENDAR
VERSION:2.0
PRODID:EVENTFROG//EVENT//ICAL
BEGIN:VEVENT
UID:20260423T155926Z-7444520145534326754@eventfrog.at
DTSTAMP:20260423T155926Z
DTSTART:20260806T220000Z
DTEND:20260825T215900Z
SUMMARY:Wanderausstellung «Fürsorge und Zwang in der Schweiz» im Vol
DESCRIPTION:Wanderausstellung «Fürsorge und Zwang in der Schweiz» im Volksgarten\n\nhttps://eventfrog.at/de/p/wissenschaft-und-technik/wanderausstellung-fuersorge-und-zwang-in-der-schweiz-im-vol-7444520145534326754.html
LOCATION:Volksgarten Glarus
GEO:47.038748;9.070837
URL:https://eventfrog.at/de/p/wissenschaft-und-technik/wanderausstellung-fuersorge-und-zwang-in-der-schweiz-im-vol-7444520145534326754.html
END:VEVENT
END:VCALENDAR