BEGIN:VCALENDAR
VERSION:2.0
PRODID:EVENTFROG//EVENT//ICAL
BEGIN:VEVENT
UID:20260422T055811Z-7444468936307938332@eventfrog.at
DTSTAMP:20260422T055811Z
DTSTART:20260624T154500Z
DTEND:20260624T190000Z
SUMMARY:YOGA Einsteiger*innen-Kurs
DESCRIPTION:Ein neuer Yoga-Kurs  für fast alle im niegelnagel neuen Studio von YOGAWERK, quasi eine Stadtlichtung im 2. OG der Grabenstrasse 4 in Thun. \n\nhttps://eventfrog.at/de/p/sport-fitness/yoga/yoga-einsteiger-innen-kurs-7444468936307938332.html
LOCATION:YOGAWERK
GEO:46.761711;7.627932
URL:https://eventfrog.at/de/p/sport-fitness/yoga/yoga-einsteiger-innen-kurs-7444468936307938332.html
END:VEVENT
END:VCALENDAR