BEGIN:VCALENDAR
VERSION:2.0
PRODID:EVENTFROG//EVENT//ICAL
BEGIN:VEVENT
UID:20260422T113301Z-7444419057128837717@eventfrog.at
DTSTAMP:20260422T113301Z
DTSTART:20260627T210000Z
DTEND:20260628T030000Z
SUMMARY:Zuger SEEfest - Afterparty
DESCRIPTION:Alle Jahre wieder steigt die grosse Afterparty vom Zuger Seefest in der L&G! Beste Musik bis ins Morgengrauen.\n\nhttps://eventfrog.at/de/p/partys/charts-open-format/zuger-seefest-afterparty-7444419057128837717.html
LOCATION:Lounge & Gallery Zug
GEO:47.177707;8.514409
URL:https://eventfrog.at/de/p/partys/charts-open-format/zuger-seefest-afterparty-7444419057128837717.html
END:VEVENT
END:VCALENDAR