BEGIN:VCALENDAR
VERSION:2.0
PRODID:EVENTFROG//EVENT//ICAL
BEGIN:VEVENT
UID:20260422T013154Z-7444397590760705124@eventfrog.at
DTSTAMP:20260422T013154Z
DTSTART:20260508T170000Z
SUMMARY:KURZFILMNACHT BERN
DESCRIPTION:Die Kurzfilmnacht Bern präsentiert lokale Premieren und vier Kurzfilmprogramme mit Barbetrieb und Dinner in der Cinématte.\n\nhttps://eventfrog.at/de/p/festivals/film/kurzfilmnacht-bern-7444397590760705124.html
LOCATION:Cinématte
GEO:46.946528;7.456345
URL:https://eventfrog.at/de/p/festivals/film/kurzfilmnacht-bern-7444397590760705124.html
END:VEVENT
END:VCALENDAR