BEGIN:VCALENDAR
VERSION:2.0
PRODID:EVENTFROG//EVENT//ICAL
BEGIN:VEVENT
UID:20260422T022841Z-7444309198031053994@eventfrog.at
DTSTAMP:20260422T022841Z
DTSTART:20260613T130000Z
DTEND:20260613T200000Z
SUMMARY:Berner Seefestspiele
DESCRIPTION:Classix, Jazz and more - new ears, new places, youngsters and stars.\n\n\nhttps://eventfrog.at/de/p/festivals/jazz-blues/berner-seefestspiele-7444309198031053994.html
LOCATION:Egelsee
GEO:46.945215;7.464499
URL:https://eventfrog.at/de/p/festivals/jazz-blues/berner-seefestspiele-7444309198031053994.html
END:VEVENT
END:VCALENDAR