BEGIN:VCALENDAR
VERSION:2.0
PRODID:EVENTFROG//EVENT//ICAL
BEGIN:VEVENT
UID:20260422T022815Z-7444309174127713482@eventfrog.at
DTSTAMP:20260422T022815Z
DTSTART:20260610T160000Z
DTEND:20260610T170000Z
SUMMARY:Berner Seefestspiele
DESCRIPTION:Classix, Jazz and more - new ears, new places, youngsters and stars.\n\n\nhttps://eventfrog.at/de/p/festivals/jazz-blues/berner-seefestspiele-7444309174127713482.html
LOCATION:Egelsee
GEO:46.945215;7.464499
URL:https://eventfrog.at/de/p/festivals/jazz-blues/berner-seefestspiele-7444309174127713482.html
END:VEVENT
END:VCALENDAR