BEGIN:VCALENDAR
VERSION:2.0
PRODID:EVENTFROG//EVENT//ICAL
BEGIN:VEVENT
UID:20260422T154147Z-7444306655704026854@eventfrog.at
DTSTAMP:20260422T154147Z
DTSTART:20260821T170000Z
DTEND:20260821T220000Z
SUMMARY:OltenAir 2026
DESCRIPTION:Das OltenAir kehrt zurück, neu auf dem Ildefonsplatz mitten in der Oltner Altstadt! Mit dabei sind fc.kleinstadt, Bahnhofbuffet Chancental und mehr.\n\nhttps://eventfrog.at/de/p/festivals/pop-rock/oltenair-2026-7444306655704026854.html
LOCATION:Ildefonsplatz Olten
GEO:47.349603;7.903983
URL:https://eventfrog.at/de/p/festivals/pop-rock/oltenair-2026-7444306655704026854.html
END:VEVENT
END:VCALENDAR