BEGIN:VCALENDAR
VERSION:2.0
PRODID:EVENTFROG//EVENT//ICAL
BEGIN:VEVENT
UID:20260423T081353Z-7444297917815371442@eventfrog.at
DTSTAMP:20260423T081353Z
DTSTART:20260725T073000Z
DTEND:20260725T140000Z
SUMMARY:Sommerfest für Gross und Klein
DESCRIPTION:Geniessen Sie einen Tag mit Spiel, Spass und Genuss.\n\n\nhttps://eventfrog.at/de/p/volksfeste/sommerfest/sommerfest-fuer-gross-und-klein-7444297917815371442.html
LOCATION:Würth Haus Rorschach
GEO:47.478437;9.506574
URL:https://eventfrog.at/de/p/volksfeste/sommerfest/sommerfest-fuer-gross-und-klein-7444297917815371442.html
END:VEVENT
END:VCALENDAR