BEGIN:VCALENDAR
VERSION:2.0
PRODID:EVENTFROG//EVENT//ICAL
BEGIN:VEVENT
UID:20260423T081409Z-7444296922477687056@eventfrog.at
DTSTAMP:20260423T081409Z
DTSTART:20260621T170000Z
DTEND:20260621T183000Z
SUMMARY:Ensemble der Würth Philharmoniker– «Sommertöne am See»
DESCRIPTION:Kammermusik zur Sonnenwende\n\n\nhttps://eventfrog.at/de/p/klassik-opern/klassik/ensemble-der-wuerth-philharmoniker-sommertoene-am-see-7444296922477687056.html
LOCATION:Würth Haus Rorschach
GEO:47.478437;9.506574
URL:https://eventfrog.at/de/p/klassik-opern/klassik/ensemble-der-wuerth-philharmoniker-sommertoene-am-see-7444296922477687056.html
END:VEVENT
END:VCALENDAR