BEGIN:VCALENDAR
VERSION:2.0
PRODID:EVENTFROG//EVENT//ICAL
BEGIN:VEVENT
UID:20260423T081906Z-7444296449712494841@eventfrog.at
DTSTAMP:20260423T081906Z
DTSTART:20260522T180000Z
SUMMARY:«AufFahrt durch Hollywood»
DESCRIPTION:Hommage an Patrick Doyle\n\n\nhttps://eventfrog.at/de/p/klassik-opern/klassik/auffahrt-durch-hollywood-7444296449712494841.html
LOCATION:Würth Haus Rorschach
GEO:47.478437;9.506574
URL:https://eventfrog.at/de/p/klassik-opern/klassik/auffahrt-durch-hollywood-7444296449712494841.html
END:VEVENT
END:VCALENDAR