BEGIN:VCALENDAR
VERSION:2.0
PRODID:EVENTFROG//EVENT//ICAL
BEGIN:VEVENT
UID:20260422T013154Z-7444064298282821555@eventfrog.at
DTSTAMP:20260422T013154Z
DTSTART:20260611T190000Z
DTEND:20260611T230000Z
SUMMARY:Ist es wahr, dass sich die Erde um die Sonne dreht?
DESCRIPTION:Grazia Pergoletti und Renate Wünsch erwecken Urs Lehmanns Universum mit Performance, Musik und Bildern zu neuem Leben.\n\nhttps://eventfrog.at/de/p/kunst-ausstellungen/vernissage/ist-es-wahr-dass-sich-die-erde-um-die-sonne-dreht-7444064298282821555.html
LOCATION:SOUS SOUL
GEO:46.948336;7.443078
URL:https://eventfrog.at/de/p/kunst-ausstellungen/vernissage/ist-es-wahr-dass-sich-die-erde-um-die-sonne-dreht-7444064298282821555.html
END:VEVENT
END:VCALENDAR