BEGIN:VCALENDAR
VERSION:2.0
PRODID:EVENTFROG//EVENT//ICAL
BEGIN:VEVENT
UID:20260422T165621Z-7444056132975394602@eventfrog.at
DTSTAMP:20260422T165621Z
DTSTART:20260716T170000Z
DTEND:20260716T180000Z
SUMMARY:Fürobe-Laufträff für Geniesser
DESCRIPTION:Jeden 1. und 3. Donnerstag trifft man sich um 19:00 vor der Stadthalle Olten zum gemütlichen Laufen in zwei Tempo-Gruppen.\n\nhttps://eventfrog.at/de/p/sport-fitness/fitness/fuerobe-lauftraeff-fuer-geniesser-7444056132975394602.html
LOCATION:Stadthalle Olten
GEO:47.342886;7.901312
URL:https://eventfrog.at/de/p/sport-fitness/fitness/fuerobe-lauftraeff-fuer-geniesser-7444056132975394602.html
END:VEVENT
END:VCALENDAR