BEGIN:VCALENDAR
VERSION:2.0
PRODID:EVENTFROG//EVENT//ICAL
BEGIN:VEVENT
UID:20260422T045300Z-7443955130968342350@eventfrog.at
DTSTAMP:20260422T045300Z
DTSTART:20260423T183000Z
DTEND:20260423T203000Z
SUMMARY:BACHATA LAB ST GALLEN  Thursday Class
DESCRIPTION:Bachata Lab St. Gallen bietet wöchentliche Kurse für Anfänger bis Fortgeschrittene mit Coach Wil im Move Box Studio an.\n\nhttps://eventfrog.at/en/p/courses-seminars/music-dance/bachata-lab-st-gallen-thursday-class-7443955130968342350.html
LOCATION:Move Box
GEO:47.419496;9.368165
URL:https://eventfrog.at/en/p/courses-seminars/music-dance/bachata-lab-st-gallen-thursday-class-7443955130968342350.html
END:VEVENT
END:VCALENDAR