BEGIN:VCALENDAR
VERSION:2.0
PRODID:EVENTFROG//EVENT//ICAL
BEGIN:VEVENT
UID:20260422T033948Z-7443713489523198133@eventfrog.at
DTSTAMP:20260422T033948Z
DTSTART:20260423T183000Z
SUMMARY:Sörsdi Livemusic: Playback Show – die Vierte
DESCRIPTION:Playback-Konzert mit Bad Elvis, Rolfi und Gogo beginnt um 20:30 Uhr, dazu Lightshow und DJ Flügi am Soundsystem.\n\nhttps://eventfrog.at/de/p/konzerte/pop-rock/soersdi-livemusic-playback-show-die-vierte-7443713489523198133.html
LOCATION:Böröm
GEO:47.352860;8.041783
URL:https://eventfrog.at/de/p/konzerte/pop-rock/soersdi-livemusic-playback-show-die-vierte-7443713489523198133.html
END:VEVENT
END:VCALENDAR