BEGIN:VCALENDAR
VERSION:2.0
PRODID:EVENTFROG//EVENT//ICAL
BEGIN:VEVENT
UID:20260422T055824Z-7443696169887205454@eventfrog.at
DTSTAMP:20260422T055824Z
DTSTART:20260422T210000Z
DTEND:20260423T020000Z
SUMMARY:GLOW FOR A CAUSE
DESCRIPTION:Am 22. April unterstützt «Glow for a cause» Bildungs- und Wasserprojekte in Kambodscha und Brasilien mit Spenden.\n\nhttps://eventfrog.at/de/p/partys/studentenparty/glow-for-a-cause-7443696169887205454.html
LOCATION:DEZENT.
GEO:47.425361;9.373692
URL:https://eventfrog.at/de/p/partys/studentenparty/glow-for-a-cause-7443696169887205454.html
END:VEVENT
END:VCALENDAR