BEGIN:VCALENDAR
VERSION:2.0
PRODID:EVENTFROG//EVENT//ICAL
BEGIN:VEVENT
UID:20260422T014527Z-7443596924979011695@eventfrog.at
DTSTAMP:20260422T014527Z
DTSTART:20260627T173000Z
DTEND:20260627T183000Z
SUMMARY:ONE'S FOR SORROW, TWO'S FOR JOY
DESCRIPTION:Klagefrauen, Hebammen, Seherinnen, Hexen: TRËI singt Lieder derer, die die Menschen seit Jahrtausenden und oft unsichtbar an den Rändern des Lebens begleiten.\n\nhttps://eventfrog.at/de/p/konzerte/a-cappella-vocal/one-s-for-sorrow-two-s-for-joy-7443596924979011695.html
LOCATION:Johanneskirche Bern
GEO:46.957914;7.451809
URL:https://eventfrog.at/de/p/konzerte/a-cappella-vocal/one-s-for-sorrow-two-s-for-joy-7443596924979011695.html
END:VEVENT
END:VCALENDAR