BEGIN:VCALENDAR
VERSION:2.0
PRODID:EVENTFROG//EVENT//ICAL
BEGIN:VEVENT
UID:20260422T071622Z-7443432654802826714@eventfrog.at
DTSTAMP:20260422T071622Z
DTSTART:20260913T120000Z
DTEND:20260913T150000Z
SUMMARY:Barock trifft Mittelalter
DESCRIPTION:Barock trifft Mittelalter\n\nhttps://eventfrog.at/de/p/wissenschaft-und-technik/barock-trifft-mittelalter-7443432654802826714.html
LOCATION:Historisches Museum Bischofszell
GEO:47.493685;9.240420
URL:https://eventfrog.at/de/p/wissenschaft-und-technik/barock-trifft-mittelalter-7443432654802826714.html
END:VEVENT
END:VCALENDAR