BEGIN:VCALENDAR
VERSION:2.0
PRODID:EVENTFROG//EVENT//ICAL
BEGIN:VEVENT
UID:20260422T071409Z-7443432654630860249@eventfrog.at
DTSTAMP:20260422T071409Z
DTSTART:20260912T090000Z
DTEND:20260912T150000Z
SUMMARY:Barock trifft Mittelalter
DESCRIPTION:Barock trifft Mittelalter\n\nhttps://eventfrog.at/de/p/wissenschaft-und-technik/barock-trifft-mittelalter-7443432654630860249.html
LOCATION:Historisches Museum Bischofszell
GEO:47.493685;9.240420
URL:https://eventfrog.at/de/p/wissenschaft-und-technik/barock-trifft-mittelalter-7443432654630860249.html
END:VEVENT
END:VCALENDAR