BEGIN:VCALENDAR
VERSION:2.0
PRODID:EVENTFROG//EVENT//ICAL
BEGIN:VEVENT
UID:20260422T071511Z-7443432653875885524@eventfrog.at
DTSTAMP:20260422T071511Z
DTSTART:20260811T163000Z
DTEND:20260811T184500Z
SUMMARY:Barock trifft Mittelalter
DESCRIPTION:Barock trifft Mittelalter\n\nhttps://eventfrog.at/de/p/wissenschaft-und-technik/barock-trifft-mittelalter-7443432653875885524.html
LOCATION:Historisches Museum Bischofszell
GEO:47.493685;9.240420
URL:https://eventfrog.at/de/p/wissenschaft-und-technik/barock-trifft-mittelalter-7443432653875885524.html
END:VEVENT
END:VCALENDAR