BEGIN:VCALENDAR
VERSION:2.0
PRODID:EVENTFROG//EVENT//ICAL
BEGIN:VEVENT
UID:20260422T071454Z-7443432653359986130@eventfrog.at
DTSTAMP:20260422T071454Z
DTSTART:20260614T163000Z
DTEND:20260614T184500Z
SUMMARY:Barock trifft Mittelalter
DESCRIPTION:Barock trifft Mittelalter\n\nhttps://eventfrog.at/de/p/wissenschaft-und-technik/barock-trifft-mittelalter-7443432653359986130.html
LOCATION:Historisches Museum Bischofszell
GEO:47.493685;9.240420
URL:https://eventfrog.at/de/p/wissenschaft-und-technik/barock-trifft-mittelalter-7443432653359986130.html
END:VEVENT
END:VCALENDAR