BEGIN:VCALENDAR
VERSION:2.0
PRODID:EVENTFROG//EVENT//ICAL
BEGIN:VEVENT
UID:20260422T071504Z-7443432652441433547@eventfrog.at
DTSTAMP:20260422T071504Z
DTSTART:20260422T100000Z
DTEND:20260422T110000Z
SUMMARY:Barock trifft Mittelalter
DESCRIPTION:Barock trifft Mittelalter\n\nhttps://eventfrog.at/de/p/wissenschaft-und-technik/barock-trifft-mittelalter-7443432652441433547.html
LOCATION:Historisches Museum Bischofszell
GEO:47.493685;9.240420
URL:https://eventfrog.at/de/p/wissenschaft-und-technik/barock-trifft-mittelalter-7443432652441433547.html
END:VEVENT
END:VCALENDAR