BEGIN:VCALENDAR
VERSION:2.0
PRODID:EVENTFROG//EVENT//ICAL
BEGIN:VEVENT
UID:20260422T182826Z-7443318051959745245@eventfrog.at
DTSTAMP:20260422T182826Z
DTSTART:20260612T163000Z
DTEND:20260612T203000Z
SUMMARY:Eat the Film - Grease
DESCRIPTION:Geniesse Grease mit passenden Speisen, die Filmszenen kulinarisch erlebbar machen - ein interaktives Erlebnis für alle Sinne.\n\nhttps://eventfrog.at/de/p/essen-trinken/eat-the-film-grease-7443318051959745245.html
LOCATION:Pishi
GEO:47.344570;7.918516
URL:https://eventfrog.at/de/p/essen-trinken/eat-the-film-grease-7443318051959745245.html
END:VEVENT
END:VCALENDAR