BEGIN:VCALENDAR
VERSION:2.0
PRODID:EVENTFROG//EVENT//ICAL
BEGIN:VEVENT
UID:20260422T014007Z-7443317313166681131@eventfrog.at
DTSTAMP:20260422T014007Z
DTSTART:20261025T100000Z
DTEND:20261025T120000Z
SUMMARY:Charity-Anlass und Konzert zum Mitsingen mit Andrew Bond
DESCRIPTION:Das Ronald McDonald Haus Bern feiert 25 Jahre mit Familienkonzert von Andrew Bond, 11 Uhr, Türöffnung 10 Uhr.\n\nhttps://eventfrog.at/de/p/kinderveranstaltungen/familienveranstaltungen/charity-anlass-und-konzert-zum-mitsingen-mit-andrew-bond-7443317313166681131.html
LOCATION:Hotel Schweizerhof Bern
GEO:46.948843;7.440931
URL:https://eventfrog.at/de/p/kinderveranstaltungen/familienveranstaltungen/charity-anlass-und-konzert-zum-mitsingen-mit-andrew-bond-7443317313166681131.html
END:VEVENT
END:VCALENDAR