BEGIN:VCALENDAR
VERSION:2.0
PRODID:EVENTFROG//EVENT//ICAL
BEGIN:VEVENT
UID:20260422T084904Z-7443315928845001525@eventfrog.at
DTSTAMP:20260422T084904Z
DTSTART:20260606T073000Z
DTEND:20260606T153000Z
SUMMARY:Ecoprint auf Stoff - Drucken mit Pflanzen
DESCRIPTION:Das erwartet dich: \n- Einführung in die Technik des Ecoprints auf Stoff\n- Arbeiten mit Pflanzen und Naturfarben\n- Drucken von eigenen Teststoffen \n- Drucken eines eigenen Schals\n\nhttps://eventfrog.at/de/p/kurse-seminare/freizeit-hobby/ecoprint-auf-stoff-drucken-mit-pflanzen-7443315928845001525.html
LOCATION:Atelier Natur Pur, Staad 1
GEO:46.845122;7.153674
URL:https://eventfrog.at/de/p/kurse-seminare/freizeit-hobby/ecoprint-auf-stoff-drucken-mit-pflanzen-7443315928845001525.html
END:VEVENT
END:VCALENDAR